BEGIN:VCALENDAR
VERSION:2.0
PRODID:-//Shankari Susanne Hill - ECPv6.15.20//NONSGML v1.0//EN
CALSCALE:GREGORIAN
METHOD:PUBLISH
X-ORIGINAL-URL:https://shankari.de
X-WR-CALDESC:Veranstaltungen für Shankari Susanne Hill
REFRESH-INTERVAL;VALUE=DURATION:PT1H
X-Robots-Tag:noindex
X-PUBLISHED-TTL:PT1H
BEGIN:VTIMEZONE
TZID:Europe/Paris
BEGIN:DAYLIGHT
TZOFFSETFROM:+0100
TZOFFSETTO:+0200
TZNAME:CEST
DTSTART:20240331T010000
END:DAYLIGHT
BEGIN:STANDARD
TZOFFSETFROM:+0200
TZOFFSETTO:+0100
TZNAME:CET
DTSTART:20241027T010000
END:STANDARD
BEGIN:DAYLIGHT
TZOFFSETFROM:+0100
TZOFFSETTO:+0200
TZNAME:CEST
DTSTART:20250330T010000
END:DAYLIGHT
BEGIN:STANDARD
TZOFFSETFROM:+0200
TZOFFSETTO:+0100
TZNAME:CET
DTSTART:20251026T010000
END:STANDARD
BEGIN:DAYLIGHT
TZOFFSETFROM:+0100
TZOFFSETTO:+0200
TZNAME:CEST
DTSTART:20260329T010000
END:DAYLIGHT
BEGIN:STANDARD
TZOFFSETFROM:+0200
TZOFFSETTO:+0100
TZNAME:CET
DTSTART:20261025T010000
END:STANDARD
END:VTIMEZONE
BEGIN:VEVENT
DTSTART;TZID=Europe/Paris:20250912T210000
DTEND;TZID=Europe/Paris:20250914T140000
DTSTAMP:20260421T175830
CREATED:20250830T085846Z
LAST-MODIFIED:20250830T085846Z
UID:7631-1757710800-1757858400@shankari.de
SUMMARY:Mantra Ukulele Aufbau Seminar
DESCRIPTION:Mantra Ukulele Aufbau Seminar \nEin ganzes Wochenende\, um dein Ukulele Spiel auf ein ganz neues Niveau zu heben. \nWenn du die grundlegenden Akkorde kennst und einige Mantras spielen kannst\, bist du hier genau richtig. \nEs wird rhythmisch\, groovig und ganz viel Spaß  machen. \nMehr Infos & Anmeldung: hier
URL:https://shankari.de/termin/mantra-ukulele-aufbau-seminar/
LOCATION:Yoga Vidya Bad Meinberg\, Yogaweg\, Bad Meinberg
ATTACH;FMTTYPE=image/webp:https://shankari.de/wp-content/uploads/Mantra-Ukulele-Aufbau.webp
END:VEVENT
END:VCALENDAR