BEGIN:VCALENDAR
VERSION:2.0
PRODID:-//Shankari Susanne Hill - ECPv6.15.20//NONSGML v1.0//EN
CALSCALE:GREGORIAN
METHOD:PUBLISH
X-WR-CALNAME:Shankari Susanne Hill
X-ORIGINAL-URL:https://shankari.de
X-WR-CALDESC:Veranstaltungen für Shankari Susanne Hill
REFRESH-INTERVAL;VALUE=DURATION:PT1H
X-Robots-Tag:noindex
X-PUBLISHED-TTL:PT1H
BEGIN:VTIMEZONE
TZID:Europe/Paris
BEGIN:DAYLIGHT
TZOFFSETFROM:+0100
TZOFFSETTO:+0200
TZNAME:CEST
DTSTART:20240331T010000
END:DAYLIGHT
BEGIN:STANDARD
TZOFFSETFROM:+0200
TZOFFSETTO:+0100
TZNAME:CET
DTSTART:20241027T010000
END:STANDARD
BEGIN:DAYLIGHT
TZOFFSETFROM:+0100
TZOFFSETTO:+0200
TZNAME:CEST
DTSTART:20250330T010000
END:DAYLIGHT
BEGIN:STANDARD
TZOFFSETFROM:+0200
TZOFFSETTO:+0100
TZNAME:CET
DTSTART:20251026T010000
END:STANDARD
BEGIN:DAYLIGHT
TZOFFSETFROM:+0100
TZOFFSETTO:+0200
TZNAME:CEST
DTSTART:20260329T010000
END:DAYLIGHT
BEGIN:STANDARD
TZOFFSETFROM:+0200
TZOFFSETTO:+0100
TZNAME:CET
DTSTART:20261025T010000
END:STANDARD
END:VTIMEZONE
BEGIN:VEVENT
DTSTART;TZID=Europe/Paris:20250827T184500
DTEND;TZID=Europe/Paris:20250827T194500
DTSTAMP:20260421T193608
CREATED:20250815T145239Z
LAST-MODIFIED:20250815T145239Z
UID:7464-1756320300-1756323900@shankari.de
SUMMARY:Mantra Konzert
DESCRIPTION:Mantra Konzert zu Ganesha Chaturthi – das Fest des hinduistischen Gottes Ganesha\, auch Ganapati genannt. \nWir spielen diesmal NUR Mantras an Ganesha und kreieren gemeinsam eine kraftvolle Energie\, um alle Hindernisse aus dem Wege zu räumen. \nFeaturing Ganapati JJRam an Cajon\, Gudadrum und Vocals. \nMehr Infos hier: hier
URL:https://shankari.de/termin/mantra-konzert-29/
LOCATION:Yoga Vidya Bad Meinberg\, Yogaweg\, Bad Meinberg
ATTACH;FMTTYPE=image/webp:https://shankari.de/wp-content/uploads/Mantra-Konzert-Veranstaltungen-1.webp
END:VEVENT
END:VCALENDAR