BEGIN:VCALENDAR
VERSION:2.0
PRODID:-//Shankari Susanne Hill - ECPv6.15.20//NONSGML v1.0//EN
CALSCALE:GREGORIAN
METHOD:PUBLISH
X-ORIGINAL-URL:https://shankari.de
X-WR-CALDESC:Veranstaltungen für Shankari Susanne Hill
REFRESH-INTERVAL;VALUE=DURATION:PT1H
X-Robots-Tag:noindex
X-PUBLISHED-TTL:PT1H
BEGIN:VTIMEZONE
TZID:Europe/Paris
BEGIN:DAYLIGHT
TZOFFSETFROM:+0100
TZOFFSETTO:+0200
TZNAME:CEST
DTSTART:20230326T010000
END:DAYLIGHT
BEGIN:STANDARD
TZOFFSETFROM:+0200
TZOFFSETTO:+0100
TZNAME:CET
DTSTART:20231029T010000
END:STANDARD
BEGIN:DAYLIGHT
TZOFFSETFROM:+0100
TZOFFSETTO:+0200
TZNAME:CEST
DTSTART:20240331T010000
END:DAYLIGHT
BEGIN:STANDARD
TZOFFSETFROM:+0200
TZOFFSETTO:+0100
TZNAME:CET
DTSTART:20241027T010000
END:STANDARD
BEGIN:DAYLIGHT
TZOFFSETFROM:+0100
TZOFFSETTO:+0200
TZNAME:CEST
DTSTART:20250330T010000
END:DAYLIGHT
BEGIN:STANDARD
TZOFFSETFROM:+0200
TZOFFSETTO:+0100
TZNAME:CET
DTSTART:20251026T010000
END:STANDARD
END:VTIMEZONE
BEGIN:VEVENT
DTSTART;TZID=Europe/Paris:20240913T210000
DTEND;TZID=Europe/Paris:20240915T143000
DTSTAMP:20260422T133800
CREATED:20240814T103100Z
LAST-MODIFIED:20240814T103100Z
UID:6191-1726261200-1726410600@shankari.de
SUMMARY:Mantra Ukulele für Einsteiger
DESCRIPTION:Mantra Ukulele für Einsteiger \nKeine Vorerfahrung oder Notenkenntnisse nötig. \nMehr Infos & Anmeldung: Hier
URL:https://shankari.de/termin/mantra-ukulele-fuer-einsteiger-2/
LOCATION:Yoga Vidya Bad Meinberg\, Yogaweg\, Bad Meinberg
ATTACH;FMTTYPE=image/jpeg:https://shankari.de/wp-content/uploads/Mantra-Ukulele-fuer-Einsteiger.jpg
END:VEVENT
BEGIN:VEVENT
DTSTART;TZID=Europe/Paris:20240928T184500
DTEND;TZID=Europe/Paris:20240928T194500
DTSTAMP:20260422T133800
CREATED:20240814T103352Z
LAST-MODIFIED:20240814T103352Z
UID:6195-1727549100-1727552700@shankari.de
SUMMARY:Mantra Konzert
DESCRIPTION:Mantra Konzert feat. Ganapati JJRam \n 
URL:https://shankari.de/termin/mantra-konzert-21/
LOCATION:Yoga Vidya Bad Meinberg\, Yogaweg\, Bad Meinberg
ATTACH;FMTTYPE=image/jpeg:https://shankari.de/wp-content/uploads/IMG-20220508-WA0000.jpg
END:VEVENT
END:VCALENDAR