BEGIN:VCALENDAR
VERSION:2.0
PRODID:-//Shankari Susanne Hill - ECPv6.15.20//NONSGML v1.0//EN
CALSCALE:GREGORIAN
METHOD:PUBLISH
X-ORIGINAL-URL:https://shankari.de
X-WR-CALDESC:Veranstaltungen für Shankari Susanne Hill
REFRESH-INTERVAL;VALUE=DURATION:PT1H
X-Robots-Tag:noindex
X-PUBLISHED-TTL:PT1H
BEGIN:VTIMEZONE
TZID:Europe/Paris
BEGIN:DAYLIGHT
TZOFFSETFROM:+0100
TZOFFSETTO:+0200
TZNAME:CEST
DTSTART:20220327T010000
END:DAYLIGHT
BEGIN:STANDARD
TZOFFSETFROM:+0200
TZOFFSETTO:+0100
TZNAME:CET
DTSTART:20221030T010000
END:STANDARD
BEGIN:DAYLIGHT
TZOFFSETFROM:+0100
TZOFFSETTO:+0200
TZNAME:CEST
DTSTART:20230326T010000
END:DAYLIGHT
BEGIN:STANDARD
TZOFFSETFROM:+0200
TZOFFSETTO:+0100
TZNAME:CET
DTSTART:20231029T010000
END:STANDARD
BEGIN:DAYLIGHT
TZOFFSETFROM:+0100
TZOFFSETTO:+0200
TZNAME:CEST
DTSTART:20240331T010000
END:DAYLIGHT
BEGIN:STANDARD
TZOFFSETFROM:+0200
TZOFFSETTO:+0100
TZNAME:CET
DTSTART:20241027T010000
END:STANDARD
END:VTIMEZONE
BEGIN:VEVENT
DTSTART;TZID=Europe/Paris:20231229T200000
DTEND;TZID=Europe/Paris:20231229T213000
DTSTAMP:20260422T042749
CREATED:20231126T180058Z
LAST-MODIFIED:20231211T114642Z
UID:5845-1703880000-1703885400@shankari.de
SUMMARY:Mantra Singkreis Online Rauhnacht Special
DESCRIPTION:Spüre die Kraft des gemeinsamen Mantra Singens und sei beim Mantra Singkreis Online Rauhnacht Special mit dabei! \nDie Rauhnächte (21./24.12.-6.1.) sind eine ganz besonders magische Zeit zwischen den Jahren. \nSo ist es schön\, diesmal auch ganz besonders magische Mantras zu singen. 🙏 \nWenn du Lust hast\, dich auf diese Weise zu verbinden und in einen heilsamen Raum voller Energie zu kommen\, dann sei mit dabei. \nDie Veranstaltung findet online über Zoom statt. Du singst ganz in Ruhe mit ausgeschaltetem Mikrofon mit mir zusammen. Dennoch ist die Verbindung auf dem digitalen Wege deutlich spürbar. \nHier kannst du dich an dem Abend einwählen Zoom Link \nMeeting-ID: 7179427619  Kenncode: Mantra \nWeitere Infos: mail@shankari.de \nDer Mantra Singkreis findet auf Spendenbasis statt\, d.h. du bezahlst als Energieausgleich das\, was du für richtig hältst. Richtwert: €10-20\,- \nDas geht am Einfachsten über Paypal: PayPal.Me/shankarisusannehill oder als Überweisung: Susanne Hill\, Sparkasse Herford\, IBAN: DE 61 4945 0120 1000 6317 11
URL:https://shankari.de/termin/mantra-singkreis-online-rauhnacht-special/
ATTACH;FMTTYPE=image/png:https://shankari.de/wp-content/uploads/RauhnachtSpecialSingkreis_SM.png
END:VEVENT
BEGIN:VEVENT
DTSTART;TZID=Europe/Paris:20231230T160000
DTEND;TZID=Europe/Paris:20231230T180000
DTSTAMP:20260422T042749
CREATED:20231125T181646Z
LAST-MODIFIED:20231125T181646Z
UID:5838-1703952000-1703959200@shankari.de
SUMMARY:Rauhnacht Special Let go & relax
DESCRIPTION:Rauhnacht Special “Let go & relax” \nSanfte Yogastunde mit Klang\, Mantra & Meditation \nLass das alte Jahr bewusst hinter dir. Sei dankbar für das\, was gewesen ist\, lass los\, was du nicht mehr benötigst und gehe ganz entspannt in den Jahreswechsel. \nAlle Level \nVerbindliche Anmeldung bis zum 21.12.2023 \nBis zu 24h vorher stornierbar. Ansonsten ist der volle Betrag fällig\, es sei denn es findet sich ein Ersatz.
URL:https://shankari.de/termin/rauhnacht-special-let-go-relax/
LOCATION:Yoga Prasanta\, Wasserstraße. 10\, 32657 Lemgo
ATTACH;FMTTYPE=image/png:https://shankari.de/wp-content/uploads/Rauhnacht-Special.png
END:VEVENT
END:VCALENDAR