BEGIN:VCALENDAR
VERSION:2.0
PRODID:-//Shankari Susanne Hill - ECPv6.15.20//NONSGML v1.0//EN
CALSCALE:GREGORIAN
METHOD:PUBLISH
X-ORIGINAL-URL:https://shankari.de
X-WR-CALDESC:Veranstaltungen für Shankari Susanne Hill
REFRESH-INTERVAL;VALUE=DURATION:PT1H
X-Robots-Tag:noindex
X-PUBLISHED-TTL:PT1H
BEGIN:VTIMEZONE
TZID:Europe/Paris
BEGIN:DAYLIGHT
TZOFFSETFROM:+0100
TZOFFSETTO:+0200
TZNAME:CEST
DTSTART:20240331T010000
END:DAYLIGHT
BEGIN:STANDARD
TZOFFSETFROM:+0200
TZOFFSETTO:+0100
TZNAME:CET
DTSTART:20241027T010000
END:STANDARD
BEGIN:DAYLIGHT
TZOFFSETFROM:+0100
TZOFFSETTO:+0200
TZNAME:CEST
DTSTART:20250330T010000
END:DAYLIGHT
BEGIN:STANDARD
TZOFFSETFROM:+0200
TZOFFSETTO:+0100
TZNAME:CET
DTSTART:20251026T010000
END:STANDARD
BEGIN:DAYLIGHT
TZOFFSETFROM:+0100
TZOFFSETTO:+0200
TZNAME:CEST
DTSTART:20260329T010000
END:DAYLIGHT
BEGIN:STANDARD
TZOFFSETFROM:+0200
TZOFFSETTO:+0100
TZNAME:CET
DTSTART:20261025T010000
END:STANDARD
END:VTIMEZONE
BEGIN:VEVENT
DTSTART;TZID=Europe/Paris:20250704T190000
DTEND;TZID=Europe/Paris:20250704T203000
DTSTAMP:20260422T072945
CREATED:20250605T091730Z
LAST-MODIFIED:20250605T091730Z
UID:6530-1751655600-1751661000@shankari.de
SUMMARY:Mantra Singen
DESCRIPTION:Mantra Singen im Yoga Prasanta \nFür alle und jedermann. Keine Vor- und Notenkenntnisse nötig. \nAnmeldung direkt bei mir: \n01590/6118596 oder mail@shankari.de
URL:https://shankari.de/termin/mantra-singen-9/
LOCATION:Yoga Prasanta\, Wasserstraße. 10\, 32657 Lemgo
ATTACH;FMTTYPE=image/jpeg:https://shankari.de/wp-content/uploads/YSP_Q125-2.jpg
END:VEVENT
BEGIN:VEVENT
DTSTART;TZID=Europe/Paris:20250705T184500
DTEND;TZID=Europe/Paris:20250705T194500
DTSTAMP:20260422T072945
CREATED:20250702T131900Z
LAST-MODIFIED:20250702T131900Z
UID:6687-1751741100-1751744700@shankari.de
SUMMARY:Mantra Konzert
DESCRIPTION:Mantra Konzert zum Lauschen\, Mitsingen und Genießen. \n 
URL:https://shankari.de/termin/mantra-konzert-28/
LOCATION:Yoga Vidya Bad Meinberg\, Yogaweg\, Bad Meinberg
ATTACH;FMTTYPE=image/jpeg:https://shankari.de/wp-content/uploads/IMG-20220508-WA0000.jpg
END:VEVENT
BEGIN:VEVENT
DTSTART;TZID=Europe/Paris:20250711T190000
DTEND;TZID=Europe/Paris:20250711T203000
DTSTAMP:20260422T072945
CREATED:20250702T132541Z
LAST-MODIFIED:20250702T132541Z
UID:6689-1752260400-1752265800@shankari.de
SUMMARY:Mantras und Circle Songs
DESCRIPTION:Gemeinsam wollen wir an diesem Abend Mantras und einfache Circle Songs singen. \nKeine Vorkenntnisse nötig. Offen für alle. \nEnergieausgleich €15\,- \nAnmeldung: mail@shankari.de oder 01590/6118596
URL:https://shankari.de/termin/mantras-und-circle-songs/
LOCATION:Yoga Prasanta\, Wasserstraße. 10\, 32657 Lemgo
ATTACH;FMTTYPE=image/jpeg:https://shankari.de/wp-content/uploads/YSP_Q125-2.jpg
END:VEVENT
END:VCALENDAR