BEGIN:VCALENDAR
VERSION:2.0
PRODID:-//Shankari Susanne Hill - ECPv6.15.20//NONSGML v1.0//EN
CALSCALE:GREGORIAN
METHOD:PUBLISH
X-WR-CALNAME:Shankari Susanne Hill
X-ORIGINAL-URL:https://shankari.de
X-WR-CALDESC:Veranstaltungen für Shankari Susanne Hill
REFRESH-INTERVAL;VALUE=DURATION:PT1H
X-Robots-Tag:noindex
X-PUBLISHED-TTL:PT1H
BEGIN:VTIMEZONE
TZID:Europe/Paris
BEGIN:DAYLIGHT
TZOFFSETFROM:+0100
TZOFFSETTO:+0200
TZNAME:CEST
DTSTART:20230326T010000
END:DAYLIGHT
BEGIN:STANDARD
TZOFFSETFROM:+0200
TZOFFSETTO:+0100
TZNAME:CET
DTSTART:20231029T010000
END:STANDARD
BEGIN:DAYLIGHT
TZOFFSETFROM:+0100
TZOFFSETTO:+0200
TZNAME:CEST
DTSTART:20240331T010000
END:DAYLIGHT
BEGIN:STANDARD
TZOFFSETFROM:+0200
TZOFFSETTO:+0100
TZNAME:CET
DTSTART:20241027T010000
END:STANDARD
BEGIN:DAYLIGHT
TZOFFSETFROM:+0100
TZOFFSETTO:+0200
TZNAME:CEST
DTSTART:20250330T010000
END:DAYLIGHT
BEGIN:STANDARD
TZOFFSETFROM:+0200
TZOFFSETTO:+0100
TZNAME:CET
DTSTART:20251026T010000
END:STANDARD
END:VTIMEZONE
BEGIN:VEVENT
DTSTART;TZID=Europe/Paris:20240303T160000
DTEND;TZID=Europe/Paris:20240303T180000
DTSTAMP:20260423T091149
CREATED:20240227T111614Z
LAST-MODIFIED:20240227T111614Z
UID:6002-1709481600-1709488800@shankari.de
SUMMARY:Kakao Zeremonie
DESCRIPTION:Erlebe die Magie einer Kakao Zeremonie \nEin heilsames & herzöffnendes Ritual begleitet mit Musik\, Mantras & Meditation. \nKeine Vorerfahrung nötig. \nMehr Infos & Anmeldung: mail@shankari.de oder 01590/6118596
URL:https://shankari.de/termin/kakao-zeremonie/
LOCATION:Yoga Prasanta\, Wasserstraße. 10\, 32657 Lemgo
END:VEVENT
BEGIN:VEVENT
DTSTART;TZID=Europe/Paris:20240309T184500
DTEND;TZID=Europe/Paris:20240309T194500
DTSTAMP:20260423T091149
CREATED:20240114T184544Z
LAST-MODIFIED:20240114T184544Z
UID:5949-1710009900-1710013500@shankari.de
SUMMARY:Mantra Konzert
DESCRIPTION:Mantra Konzert feat. Ganapati JJRam an Cajon\, Gudadrum & Vocals \nYoga Vidya\, Bad Meinberg
URL:https://shankari.de/termin/mantra-konzert-17/
LOCATION:Yoga Vidya Bad Meinberg\, Yogaweg\, Bad Meinberg
ATTACH;FMTTYPE=image/jpeg:https://shankari.de/wp-content/uploads/IMG-20220508-WA0000.jpg
END:VEVENT
BEGIN:VEVENT
DTSTART;TZID=Europe/Paris:20240320T200000
DTEND;TZID=Europe/Paris:20240320T213000
DTSTAMP:20260423T091149
CREATED:20240114T174127Z
LAST-MODIFIED:20240307T110240Z
UID:5930-1710964800-1710970200@shankari.de
SUMMARY:Mantra Singkreis Online
DESCRIPTION:Mantra Singkreis Online \n“Frei & Weit” – Herzöffnende Mantras für mehr Liebe und Offenheit. \nDas Mantra Singen an sich wirkt schon herzöffnend. Mit den passenden Mantras\, die diese Wirkung besonders fördern\, erfährst du diesmal ein Gefühl von Freiheit und Weite in deinem Herzen. Liebe pur! \nSpüre die Kraft des gemeinsamen Mantra Singens! \nWenn du Lust hast\, dich auf diese Weise zu verbinden und in einen heilsamen Raum voller Energie zu kommen\, dann sei mit dabei. \nDie Veranstaltung findet online über Zoom statt. Du singst ganz in Ruhe mit ausgeschaltetem Mikrofon mit mir zusammen. Dennoch ist die Verbindung auf dem digitalen Wege deutlich spürbar. \nHier kannst du dich an dem Abend einwählen Zoom Link \nMeeting-ID: 7179427619  Kenncode: Mantra \nWeitere Infos: mail@shankari.de \nDer Mantra Singkreis findet auf Spendenbasis statt\, d.h. du bezahlst als Energieausgleich das\, was du für richtig hältst. Richtwert: €10-20\,- \nDas geht am Einfachsten über Paypal: PayPal.Me/shankarisusannehill oder als Überweisung: Susanne Hill\, Sparkasse Herford\, IBAN: DE 61 4945 0120 1000 6317 11 \n\n\n\n\n\n\n\n\n  \n  \n  \n 
URL:https://shankari.de/termin/mantra-singkreis-online-3/
ATTACH;FMTTYPE=image/jpeg:https://shankari.de/wp-content/uploads/Mantra-Singkreis-Online.jpg
END:VEVENT
BEGIN:VEVENT
DTSTART;TZID=Europe/Paris:20240323T103000
DTEND;TZID=Europe/Paris:20240323T123000
DTSTAMP:20260423T091149
CREATED:20240114T180919Z
LAST-MODIFIED:20240114T180919Z
UID:5943-1711189800-1711197000@shankari.de
SUMMARY:Yoga Special "Herz über Kopf"
DESCRIPTION:Yoga Special “Herz über Kopf” \nSanft-dynamische Yogastunde mit Musik\, Mantras und Meditation. \nKomm in dein Herz und werde frei. Spüre Neubeginn\, Licht und Liebe: Herzöffnung pur! \nKosten: €25\,- \nInfos & Anmeldung: mail@shankari.de oder WhatsApp 01590/6118596
URL:https://shankari.de/termin/yoga-special-herz-ueber-kopf/
LOCATION:Yoga Prasanta\, Wasserstraße. 10\, 32657 Lemgo
END:VEVENT
END:VCALENDAR