BEGIN:VCALENDAR
VERSION:2.0
PRODID:-//Shankari Susanne Hill - ECPv6.15.20//NONSGML v1.0//EN
CALSCALE:GREGORIAN
METHOD:PUBLISH
X-ORIGINAL-URL:https://shankari.de
X-WR-CALDESC:Veranstaltungen für Shankari Susanne Hill
REFRESH-INTERVAL;VALUE=DURATION:PT1H
X-Robots-Tag:noindex
X-PUBLISHED-TTL:PT1H
BEGIN:VTIMEZONE
TZID:Europe/Paris
BEGIN:DAYLIGHT
TZOFFSETFROM:+0100
TZOFFSETTO:+0200
TZNAME:CEST
DTSTART:20240331T010000
END:DAYLIGHT
BEGIN:STANDARD
TZOFFSETFROM:+0200
TZOFFSETTO:+0100
TZNAME:CET
DTSTART:20241027T010000
END:STANDARD
BEGIN:DAYLIGHT
TZOFFSETFROM:+0100
TZOFFSETTO:+0200
TZNAME:CEST
DTSTART:20250330T010000
END:DAYLIGHT
BEGIN:STANDARD
TZOFFSETFROM:+0200
TZOFFSETTO:+0100
TZNAME:CET
DTSTART:20251026T010000
END:STANDARD
BEGIN:DAYLIGHT
TZOFFSETFROM:+0100
TZOFFSETTO:+0200
TZNAME:CEST
DTSTART:20260329T010000
END:DAYLIGHT
BEGIN:STANDARD
TZOFFSETFROM:+0200
TZOFFSETTO:+0100
TZNAME:CET
DTSTART:20261025T010000
END:STANDARD
END:VTIMEZONE
BEGIN:VEVENT
DTSTART;TZID=Europe/Paris:20250209T183000
DTEND;TZID=Europe/Paris:20250209T200000
DTSTAMP:20260422T142356
CREATED:20250114T165427Z
LAST-MODIFIED:20250114T165754Z
UID:6396-1739125800-1739131200@shankari.de
SUMMARY:Mantra Singkreis
DESCRIPTION:Mantra Singkreis in der Rawaule Dörentrup! \nKeine Vorkenntnisse nötig. €15\,- Energieausgleich. \nAnmeldung direkt an: mail@shankari.de oder 01590/6118596
URL:https://shankari.de/termin/mantra-singkreis/
LOCATION:Rawaule\, Rawaule 5\, Dörentrup-Hillentrup\, 32694
ATTACH;FMTTYPE=image/jpeg:https://shankari.de/wp-content/uploads/Mantra-Singkreis_FB.jpg
END:VEVENT
END:VCALENDAR