BEGIN:VCALENDAR
VERSION:2.0
PRODID:-//Shankari Susanne Hill - ECPv6.15.20//NONSGML v1.0//EN
CALSCALE:GREGORIAN
METHOD:PUBLISH
X-ORIGINAL-URL:https://shankari.de
X-WR-CALDESC:Veranstaltungen für Shankari Susanne Hill
REFRESH-INTERVAL;VALUE=DURATION:PT1H
X-Robots-Tag:noindex
X-PUBLISHED-TTL:PT1H
BEGIN:VTIMEZONE
TZID:Europe/Paris
BEGIN:DAYLIGHT
TZOFFSETFROM:+0100
TZOFFSETTO:+0200
TZNAME:CEST
DTSTART:20230326T010000
END:DAYLIGHT
BEGIN:STANDARD
TZOFFSETFROM:+0200
TZOFFSETTO:+0100
TZNAME:CET
DTSTART:20231029T010000
END:STANDARD
BEGIN:DAYLIGHT
TZOFFSETFROM:+0100
TZOFFSETTO:+0200
TZNAME:CEST
DTSTART:20240331T010000
END:DAYLIGHT
BEGIN:STANDARD
TZOFFSETFROM:+0200
TZOFFSETTO:+0100
TZNAME:CET
DTSTART:20241027T010000
END:STANDARD
BEGIN:DAYLIGHT
TZOFFSETFROM:+0100
TZOFFSETTO:+0200
TZNAME:CEST
DTSTART:20250330T010000
END:DAYLIGHT
BEGIN:STANDARD
TZOFFSETFROM:+0200
TZOFFSETTO:+0100
TZNAME:CET
DTSTART:20251026T010000
END:STANDARD
END:VTIMEZONE
BEGIN:VEVENT
DTSTART;TZID=Europe/Paris:20241229T200000
DTEND;TZID=Europe/Paris:20241229T213000
DTSTAMP:20260421T142715
CREATED:20241202T101222Z
LAST-MODIFIED:20241202T101222Z
UID:6342-1735502400-1735507800@shankari.de
SUMMARY:Mantra Singkreis Online Rauhnacht Special
DESCRIPTION:Spüre die Kraft des gemeinsamen Mantra Singens und sei beim Mantra Singkreis Online Rauhnacht Special mit dabei! \nDie Rauhnächte (21./24.12.-6.1.) sind eine ganz besonders magische Zeit zwischen den Jahren. So ist es schön\, diesmal auch ganz besonders magische Mantras zu singen.  \nWenn du Lust hast\, dich auf diese Weise zu verbinden und in einen heilsamen Raum voller Energie zu kommen\, dann sei mit dabei. Die Veranstaltung findet online über Zoom statt. Du singst ganz in Ruhe mit ausgeschaltetem Mikrofon mit mir zusammen. Dennoch ist die Verbindung auf dem digitalen Wege deutlich spürbar. \nMelde dich bitte vorher per mail bei mir an. Dann bekommst du den Zoom Link zugeschickt: mail@shankari.de \nAnmeldeschluss ist bis Sa\, 28.12. \nDer Mantra Singkreis findet auf Spendenbasis statt\, d.h. du bezahlst als Energieausgleich das\, was du für richtig hältst. Richtwert: €10-20\,-. Das geht am Einfachsten über Paypal: PayPal.Me/shankarisusannehill oder als Überweisung: Susanne Hill\, Sparkasse Herford\, IBAN: DE 61 4945 0120 1000 6317 11
URL:https://shankari.de/termin/mantra-singkreis-online-rauhnacht-special-2/
ATTACH;FMTTYPE=image/png:https://shankari.de/wp-content/uploads/RauhnachtSpecialSingkreis_SM.png
END:VEVENT
END:VCALENDAR