BEGIN:VCALENDAR
VERSION:2.0
PRODID:-//Shankari Susanne Hill - ECPv6.15.20//NONSGML v1.0//EN
CALSCALE:GREGORIAN
METHOD:PUBLISH
X-WR-CALNAME:Shankari Susanne Hill
X-ORIGINAL-URL:https://shankari.de
X-WR-CALDESC:Veranstaltungen für Shankari Susanne Hill
REFRESH-INTERVAL;VALUE=DURATION:PT1H
X-Robots-Tag:noindex
X-PUBLISHED-TTL:PT1H
BEGIN:VTIMEZONE
TZID:Europe/Paris
BEGIN:DAYLIGHT
TZOFFSETFROM:+0100
TZOFFSETTO:+0200
TZNAME:CEST
DTSTART:20230326T010000
END:DAYLIGHT
BEGIN:STANDARD
TZOFFSETFROM:+0200
TZOFFSETTO:+0100
TZNAME:CET
DTSTART:20231029T010000
END:STANDARD
BEGIN:DAYLIGHT
TZOFFSETFROM:+0100
TZOFFSETTO:+0200
TZNAME:CEST
DTSTART:20240331T010000
END:DAYLIGHT
BEGIN:STANDARD
TZOFFSETFROM:+0200
TZOFFSETTO:+0100
TZNAME:CET
DTSTART:20241027T010000
END:STANDARD
BEGIN:DAYLIGHT
TZOFFSETFROM:+0100
TZOFFSETTO:+0200
TZNAME:CEST
DTSTART:20250330T010000
END:DAYLIGHT
BEGIN:STANDARD
TZOFFSETFROM:+0200
TZOFFSETTO:+0100
TZNAME:CET
DTSTART:20251026T010000
END:STANDARD
END:VTIMEZONE
BEGIN:VEVENT
DTSTART;TZID=Europe/Paris:20240426T200000
DTEND;TZID=Europe/Paris:20240426T213000
DTSTAMP:20260422T042538
CREATED:20240326T155505Z
LAST-MODIFIED:20240326T155505Z
UID:6045-1714161600-1714167000@shankari.de
SUMMARY:Mantra Singkreis Online
DESCRIPTION:Mantra Singkreis Online \n“Shakti Power” – sanft\, wild und weiblich. \nOb Lakshmi\, Durga oder Kali. Die weiblichen Aspekte des Göttlichen stecken in uns allen – egal ob Mann oder Frau. Diese Energie wollen wir mit ausgewählten Mantras wecken und zelebrieren. Jay Ma! \nSpüre die Kraft des gemeinsamen Mantra Singens! \nWenn du Lust hast\, dich auf diese Weise zu verbinden und in einen heilsamen Raum voller Energie zu kommen\, dann sei mit dabei. \nDie Veranstaltung findet online über Zoom statt. Du singst ganz in Ruhe mit ausgeschaltetem Mikrofon mit mir zusammen. Dennoch ist die Verbindung auf dem digitalen Wege deutlich spürbar. \nHier kannst du dich an dem Abend einwählen Zoom Link \nMeeting-ID: 7179427619  Kenncode: Mantra \nWeitere Infos: mail@shankari.de \nDer Mantra Singkreis findet auf Spendenbasis statt\, d.h. du bezahlst als Energieausgleich das\, was du für richtig hältst. Richtwert: €10-20\,- \nDas geht am Einfachsten über Paypal: PayPal.Me/shankarisusannehill oder als Überweisung: Susanne Hill\, Sparkasse Herford\, IBAN: DE 61 4945 0120 1000 6317 11
URL:https://shankari.de/termin/mantra-singkreis-online-4/
ATTACH;FMTTYPE=image/jpeg:https://shankari.de/wp-content/uploads/Mantra-Singkreis-Online.jpg
END:VEVENT
END:VCALENDAR